BEGIN:VCALENDAR
VERSION:2.0
PRODID:-//wp-events-plugin.com//7.2.3.1//EN
BEGIN:VEVENT
UID:411@lichtkosmos.com
DTSTART;TZID=Europe/Berlin:20250624T000000
DTEND;TZID=Europe/Berlin:20250627T000000
DTSTAMP:20250415T100732Z
URL:https://lichtkosmos.com/events/lichtportal-aktivierung-schottland-retr
 eat/
SUMMARY:Lichtportal Aktivierung Schottland Retreat
DESCRIPTION:Yoga | Breathwork | Lichtarbeit\nAchtung: Hohe Energieübertrag
 ung\n\nMehr Infos folgen in Kürze
ATTACH;FMTTYPE=image/jpeg:https://lichtkosmos.com/wp-content/uploads/2025/
 03/WhatsApp-Image-2025-03-05-at-10.19.06.jpeg
CATEGORIES:Für Erwachsene,Retreat
END:VEVENT
BEGIN:VTIMEZONE
TZID:Europe/Berlin
X-LIC-LOCATION:Europe/Berlin
BEGIN:DAYLIGHT
DTSTART:20250330T030000
TZOFFSETFROM:+0100
TZOFFSETTO:+0200
TZNAME:CEST
END:DAYLIGHT
END:VTIMEZONE
END:VCALENDAR